BEGIN:VCALENDAR
VERSION:2.0
PRODID:-//Contratero//ES
CALSCALE:GREGORIAN
METHOD:PUBLISH
BEGIN:VEVENT
UID:179/2020@contratero.es
DTSTAMP:20260421T235807Z
DTSTART:20201021T235959
DTEND:20201022T005959
SUMMARY:Cierre: El objeto del contrato es la instalación\, puesta e
DESCRIPTION:El objeto del contrato es la instalación\, puesta en marcha y mantenimiento de la red WIFI para la prestación de acceso gratuito a Internet en espacios públicos exteriores de Anguiano.\\n\\nOrganismo: Alcaldía del Ayuntamiento de Anguiano\\n\\nVer en Contratero: https://contratero.es/contracts/179/2020
URL:https://contratero.es/contracts/179/2020
STATUS:CONFIRMED
BEGIN:VALARM
TRIGGER:-P1D
ACTION:DISPLAY
DESCRIPTION:Recordatorio: El objeto del contrato es la i
END:VALARM
END:VEVENT
END:VCALENDAR