BEGIN:VCALENDAR
VERSION:2.0
PRODID:-//Contratero//ES
CALSCALE:GREGORIAN
METHOD:PUBLISH
BEGIN:VEVENT
UID:18/11291@contratero.es
DTSTAMP:20260421T174343Z
DTSTART:20190409T235959
DTEND:20190410T005959
SUMMARY:Cierre: Contratación de un circuito de acceso a internet p
DESCRIPTION:Contratación de un circuito de acceso a internet para la residencia de Cercedilla\\n\\nOrganismo: Banco de España\\n\\nVer en Contratero: https://contratero.es/contracts/18/11291
URL:https://contratero.es/contracts/18/11291
STATUS:CONFIRMED
BEGIN:VALARM
TRIGGER:-P1D
ACTION:DISPLAY
DESCRIPTION:Recordatorio: Contratación de un circuito de
END:VALARM
END:VEVENT
END:VCALENDAR