BEGIN:VCALENDAR
VERSION:2.0
PRODID:-//Contratero//ES
CALSCALE:GREGORIAN
METHOD:PUBLISH
BEGIN:VEVENT
UID:18/TO/23/SS/DS/A/053@contratero.es
DTSTAMP:20260423T150731Z
DTSTART:20230710T235959
DTEND:20230711T005959
SUMMARY:Cierre: Ampliación\, mejora y mantenimiento del Sistema de 
DESCRIPTION:Ampliación\, mejora y mantenimiento del Sistema de Vigilancia en Salud Pública en la CCAA de Canarias y su integración en la Red Nacional.\\n\\nOrganismo: Dirección del Servicio Canario de Salud\\n\\nVer en Contratero: https://contratero.es/contracts/18/TO/23/SS/DS/A/053
URL:https://contratero.es/contracts/18/TO/23/SS/DS/A/053
STATUS:CONFIRMED
BEGIN:VALARM
TRIGGER:-P1D
ACTION:DISPLAY
DESCRIPTION:Recordatorio: Ampliación\, mejora y mantenimi
END:VALARM
END:VEVENT
END:VCALENDAR