BEGIN:VCALENDAR
VERSION:2.0
PRODID:-//Contratero//ES
CALSCALE:GREGORIAN
METHOD:PUBLISH
BEGIN:VEVENT
UID:18/TO/24/SS/CO/A/001@contratero.es
DTSTAMP:20260422T130715Z
DTSTART:20240520T235959
DTEND:20240521T005959
SUMMARY:Cierre: Contratación de los Servicios de la Oficina Técnic
DESCRIPTION:Contratación de los Servicios de la Oficina Técnica de Gestión de Proyectos TIC de Innovación y Salud Digital  del Servicio Canario de la Salud.\\n\\nOrganismo: Consejería de Sanidad del Gobierno de Canarias\\n\\nVer en Contratero: https://contratero.es/contracts/18/TO/24/SS/CO/A/001
URL:https://contratero.es/contracts/18/TO/24/SS/CO/A/001
STATUS:CONFIRMED
BEGIN:VALARM
TRIGGER:-P1D
ACTION:DISPLAY
DESCRIPTION:Recordatorio: Contratación de los Servicios 
END:VALARM
END:VEVENT
END:VCALENDAR