BEGIN:VCALENDAR
VERSION:2.0
PRODID:-//Contratero//ES
CALSCALE:GREGORIAN
METHOD:PUBLISH
BEGIN:VEVENT
UID:1842/2023@contratero.es
DTSTAMP:20260420T123435Z
DTSTART:20230615T235959
DTEND:20230616T005959
SUMMARY:Cierre: Servicios de hosting y correo electrónico municipa
DESCRIPTION:Servicios de hosting y correo electrónico municipal\\n\\nOrganismo: Alcaldía del Ayuntamiento de Béjar\\n\\nVer en Contratero: https://contratero.es/contracts/1842/2023
URL:https://contratero.es/contracts/1842/2023
STATUS:CONFIRMED
BEGIN:VALARM
TRIGGER:-P1D
ACTION:DISPLAY
DESCRIPTION:Recordatorio: Servicios de hosting y correo 
END:VALARM
END:VEVENT
END:VCALENDAR