BEGIN:VCALENDAR
VERSION:2.0
PRODID:-//Contratero//ES
CALSCALE:GREGORIAN
METHOD:PUBLISH
BEGIN:VEVENT
UID:1851954J@contratero.es
DTSTAMP:20260421T005953Z
DTSTART:20240705T235959
DTEND:20240706T005959
SUMMARY:Cierre: Software modalidad SaaS y mantenimiento del sistem
DESCRIPTION:Software modalidad SaaS y mantenimiento del sistema de gestión de colas del gabinete de información del Ayuntamiento de Xirivella\\n\\nOrganismo: Alcaldía del Ayuntamiento de Xirivella\\n\\nVer en Contratero: https://contratero.es/contracts/1851954J
URL:https://contratero.es/contracts/1851954J
STATUS:CONFIRMED
BEGIN:VALARM
TRIGGER:-P1D
ACTION:DISPLAY
DESCRIPTION:Recordatorio: Software modalidad SaaS y mant
END:VALARM
END:VEVENT
END:VCALENDAR