BEGIN:VCALENDAR
VERSION:2.0
PRODID:-//Contratero//ES
CALSCALE:GREGORIAN
METHOD:PUBLISH
BEGIN:VEVENT
UID:187CM.25@contratero.es
DTSTAMP:20260422T034820Z
DTSTART:20250821T235959
DTEND:20250822T005959
SUMMARY:Cierre: Servicio de promoción y márketing digital
DESCRIPTION:Servicio de promoción y márketing digital\\n\\nOrganismo: Alcaldia del Ayuntamiento de Mérida\\n\\nVer en Contratero: https://contratero.es/contracts/187CM.25
URL:https://contratero.es/contracts/187CM.25
STATUS:CONFIRMED
BEGIN:VALARM
TRIGGER:-P1D
ACTION:DISPLAY
DESCRIPTION:Recordatorio: Servicio de promoción y márket
END:VALARM
END:VEVENT
END:VCALENDAR