BEGIN:VCALENDAR
VERSION:2.0
PRODID:-//Contratero//ES
CALSCALE:GREGORIAN
METHOD:PUBLISH
BEGIN:VEVENT
UID:1880/2024@contratero.es
DTSTAMP:20260421T142810Z
DTSTART:20240625T235959
DTEND:20240626T005959
SUMMARY:Cierre: Servei de Gestió d’accés i venda d’entrades d’esde
DESCRIPTION:Servei de Gestió d’accés i venda d’entrades d’esdeveniments municipals de l’Ajuntament d’Ondara.\\n\\nOrganismo: Junta de Gobierno del Ayuntamiento de Ondara\\n\\nVer en Contratero: https://contratero.es/contracts/1880/2024
URL:https://contratero.es/contracts/1880/2024
STATUS:CONFIRMED
BEGIN:VALARM
TRIGGER:-P1D
ACTION:DISPLAY
DESCRIPTION:Recordatorio: Servei de Gestió d’accés i ven
END:VALARM
END:VEVENT
END:VCALENDAR