BEGIN:VCALENDAR
VERSION:2.0
PRODID:-//Contratero//ES
CALSCALE:GREGORIAN
METHOD:PUBLISH
BEGIN:VEVENT
UID:19/T/21/SU/CO/A/0107@contratero.es
DTSTAMP:20260424T092614Z
DTSTART:20211222T235959
DTEND:20211223T005959
SUMMARY:Cierre: Suministro de la infraestructura de servidores y d
DESCRIPTION:Suministro de la infraestructura de servidores y dispositivos de conexión para la renovación de sistema de procesamiento de los Centros de Proceso de Datos de los servicios centrales del Servicio Cana...\\n\\nOrganismo: Consejería de Sanidad del Gobierno de Canarias\\n\\nVer en Contratero: https://contratero.es/contracts/19/T/21/SU/CO/A/0107
URL:https://contratero.es/contracts/19/T/21/SU/CO/A/0107
STATUS:CONFIRMED
BEGIN:VALARM
TRIGGER:-P1D
ACTION:DISPLAY
DESCRIPTION:Recordatorio: Suministro de la infraestructu
END:VALARM
END:VEVENT
END:VCALENDAR