BEGIN:VCALENDAR
VERSION:2.0
PRODID:-//Contratero//ES
CALSCALE:GREGORIAN
METHOD:PUBLISH
BEGIN:VEVENT
UID:19/T/24/SS/CO/A/0016@contratero.es
DTSTAMP:20260422T162043Z
DTSTART:20240715T235959
DTEND:20240716T005959
SUMMARY:Cierre: Servicios de Mantenimiento\, Evolución Integración 
DESCRIPTION:Servicios de Mantenimiento\, Evolución Integración y Soporte especializado en relación con la historia Clínica Electrónica de la Atención Especializada del SCS\\n\\nOrganismo: Consejería de Sanidad del Gobierno de Canarias\\n\\nVer en Contratero: https://contratero.es/contracts/19/T/24/SS/CO/A/0016
URL:https://contratero.es/contracts/19/T/24/SS/CO/A/0016
STATUS:CONFIRMED
BEGIN:VALARM
TRIGGER:-P1D
ACTION:DISPLAY
DESCRIPTION:Recordatorio: Servicios de Mantenimiento\, Ev
END:VALARM
END:VEVENT
END:VCALENDAR