BEGIN:VCALENDAR
VERSION:2.0
PRODID:-//Contratero//ES
CALSCALE:GREGORIAN
METHOD:PUBLISH
BEGIN:VEVENT
UID:190/2020@contratero.es
DTSTAMP:20260425T001011Z
DTSTART:20201028T235959
DTEND:20201029T005959
SUMMARY:Cierre: Derecho al uso\, soporte y mantenimiento de la Plat
DESCRIPTION:Derecho al uso\, soporte y mantenimiento de la Plataforma de gestión de expedientes de contratación.\\n\\nOrganismo: Consejo de Administración de ICEX España Exportación e Inversiones\, E.P.E.\, M.P.\\n\\nVer en Contratero: https://contratero.es/contracts/190/2020
URL:https://contratero.es/contracts/190/2020
STATUS:CONFIRMED
BEGIN:VALARM
TRIGGER:-P1D
ACTION:DISPLAY
DESCRIPTION:Recordatorio: Derecho al uso\, soporte y mant
END:VALARM
END:VEVENT
END:VCALENDAR