BEGIN:VCALENDAR
VERSION:2.0
PRODID:-//Contratero//ES
CALSCALE:GREGORIAN
METHOD:PUBLISH
BEGIN:VEVENT
UID:190/2022@contratero.es
DTSTAMP:20260422T024919Z
DTSTART:20221121T235959
DTEND:20221122T005959
SUMMARY:Cierre: El objeto de la presente licitación es la provisió
DESCRIPTION:El objeto de la presente licitación es la provisión\, implantación y configuración de una solución de digitalización de procesos\, así como de todos los servicios de soporte\, desarrollos de correctivos ...\\n\\nOrganismo: Consejo de Administración de ICEX España Exportación e Inversiones\, E.P.E.\\n\\nVer en Contratero: https://contratero.es/contracts/190/2022
URL:https://contratero.es/contracts/190/2022
STATUS:CONFIRMED
BEGIN:VALARM
TRIGGER:-P1D
ACTION:DISPLAY
DESCRIPTION:Recordatorio: El objeto de la presente licit
END:VALARM
END:VEVENT
END:VCALENDAR