BEGIN:VCALENDAR
VERSION:2.0
PRODID:-//Contratero//ES
CALSCALE:GREGORIAN
METHOD:PUBLISH
BEGIN:VEVENT
UID:19002/2024@contratero.es
DTSTAMP:20260421T235808Z
DTSTART:20250603T235959
DTEND:20250604T005959
SUMMARY:Cierre: Suministro de licencias de software para 22 dispos
DESCRIPTION:Suministro de licencias de software para 22 dispositivos digitalizadores de firma biométrica y su posterior mantenimiento para los Servicios Tributarios de la Diputación de Segovia.\\n\\nOrganismo: Presidencia de la Diputación Provincial de Segovia\\n\\nVer en Contratero: https://contratero.es/contracts/19002/2024
URL:https://contratero.es/contracts/19002/2024
STATUS:CONFIRMED
BEGIN:VALARM
TRIGGER:-P1D
ACTION:DISPLAY
DESCRIPTION:Recordatorio: Suministro de licencias de sof
END:VALARM
END:VEVENT
END:VCALENDAR