BEGIN:VCALENDAR
VERSION:2.0
PRODID:-//Contratero//ES
CALSCALE:GREGORIAN
METHOD:PUBLISH
BEGIN:VEVENT
UID:190904@contratero.es
DTSTAMP:20260421T133315Z
DTSTART:20191111T235959
DTEND:20191112T005959
SUMMARY:Cierre: Servicio de seguimiento de noticias de Paradores d
DESCRIPTION:Servicio de seguimiento de noticias de Paradores de Turismo de España\, S.M.E.\, S.A. en prensa\, radio\, televisión y medios digitales\\n\\nOrganismo: Paradores de Turismo de España\, S.M.E.\, S.A.\\n\\nVer en Contratero: https://contratero.es/contracts/190904
URL:https://contratero.es/contracts/190904
STATUS:CONFIRMED
BEGIN:VALARM
TRIGGER:-P1D
ACTION:DISPLAY
DESCRIPTION:Recordatorio: Servicio de seguimiento de not
END:VALARM
END:VEVENT
END:VCALENDAR