BEGIN:VCALENDAR
VERSION:2.0
PRODID:-//Contratero//ES
CALSCALE:GREGORIAN
METHOD:PUBLISH
BEGIN:VEVENT
UID:1925/2024@contratero.es
DTSTAMP:20260425T150842Z
DTSTART:20250108T235959
DTEND:20250109T005959
SUMMARY:Cierre: Servicio de mantenimiento informático\, Delegado de
DESCRIPTION:Servicio de mantenimiento informático\, Delegado de Protección de Datos y responsable de operaciones de registro de certificados digitales del Ayuntamiento de Churriana de la Vega\\n\\nOrganismo: Alcaldía del Ayuntamiento de Churriana de la Vega\\n\\nVer en Contratero: https://contratero.es/contracts/1925/2024
URL:https://contratero.es/contracts/1925/2024
STATUS:CONFIRMED
BEGIN:VALARM
TRIGGER:-P1D
ACTION:DISPLAY
DESCRIPTION:Recordatorio: Servicio de mantenimiento info
END:VALARM
END:VEVENT
END:VCALENDAR