BEGIN:VCALENDAR
VERSION:2.0
PRODID:-//Contratero//ES
CALSCALE:GREGORIAN
METHOD:PUBLISH
BEGIN:VEVENT
UID:193/2023@contratero.es
DTSTAMP:20260422T174324Z
DTSTART:20231229T235959
DTEND:20231230T005959
SUMMARY:Cierre: El objeto del contrato es un servicio de consultor
DESCRIPTION:El objeto del contrato es un servicio de consultoría para la ejecución del “Programa de Apoyo Personalizado para la Internacionalización Empresarial (APIEm)” (en lo sucesivo\, el Programa) que se ofrec...\\n\\nOrganismo: Consejo de Administración de ICEX España Exportación e Inversiones\, E.P.E.\\n\\nVer en Contratero: https://contratero.es/contracts/193/2023
URL:https://contratero.es/contracts/193/2023
STATUS:CONFIRMED
BEGIN:VALARM
TRIGGER:-P1D
ACTION:DISPLAY
DESCRIPTION:Recordatorio: El objeto del contrato es un s
END:VALARM
END:VEVENT
END:VCALENDAR