BEGIN:VCALENDAR
VERSION:2.0
PRODID:-//Contratero//ES
CALSCALE:GREGORIAN
METHOD:PUBLISH
BEGIN:VEVENT
UID:1955/2025@contratero.es
DTSTAMP:20260421T123411Z
DTSTART:20250715T235959
DTEND:20250716T005959
SUMMARY:Cierre: Solución de firma biométrica\, que permita un númer
DESCRIPTION:Solución de firma biométrica\, que permita un número ilimitado de firmas\, integrada con el Gestor de Expedientes GESTIONA\, para lo que se requieren dos (2) licencias.\\n\\nOrganismo: Alcaldía del Ayuntamiento de Cenes de la Vega\\n\\nVer en Contratero: https://contratero.es/contracts/1955/2025
URL:https://contratero.es/contracts/1955/2025
STATUS:CONFIRMED
BEGIN:VALARM
TRIGGER:-P1D
ACTION:DISPLAY
DESCRIPTION:Recordatorio: Solución de firma biométrica\, 
END:VALARM
END:VEVENT
END:VCALENDAR