BEGIN:VCALENDAR
VERSION:2.0
PRODID:-//Contratero//ES
CALSCALE:GREGORIAN
METHOD:PUBLISH
BEGIN:VEVENT
UID:19662K/2018@contratero.es
DTSTAMP:20260423T085019Z
DTSTART:20190329T235959
DTEND:20190330T005959
SUMMARY:Cierre: Mantenimiento de las instalaciones de cableado est
DESCRIPTION:Mantenimiento de las instalaciones de cableado estructurado y red de fibra óptica\, con criterio de calidad en el empleo.\\n\\nOrganismo: Alcaldía del Ayuntamiento de Gijón\\n\\nVer en Contratero: https://contratero.es/contracts/19662K/2018
URL:https://contratero.es/contracts/19662K/2018
STATUS:CONFIRMED
BEGIN:VALARM
TRIGGER:-P1D
ACTION:DISPLAY
DESCRIPTION:Recordatorio: Mantenimiento de las instalaci
END:VALARM
END:VEVENT
END:VCALENDAR