BEGIN:VCALENDAR
VERSION:2.0
PRODID:-//Contratero//ES
CALSCALE:GREGORIAN
METHOD:PUBLISH
BEGIN:VEVENT
UID:1980/2023@contratero.es
DTSTAMP:20260426T020410Z
DTSTART:20230530T235959
DTEND:20230531T005959
SUMMARY:Cierre: Suministro de 180 Licencias Antivirus para Servido
DESCRIPTION:Suministro de 180 Licencias Antivirus para Servidores y Puestos de Trabajo Corporativos del Ayuntamiento de Punta Umbría (Huelva)\\n\\nOrganismo: Alcaldía del Ayuntamiento de Punta umbría\\n\\nVer en Contratero: https://contratero.es/contracts/1980/2023
URL:https://contratero.es/contracts/1980/2023
STATUS:CONFIRMED
BEGIN:VALARM
TRIGGER:-P1D
ACTION:DISPLAY
DESCRIPTION:Recordatorio: Suministro de 180 Licencias An
END:VALARM
END:VEVENT
END:VCALENDAR