BEGIN:VCALENDAR
VERSION:2.0
PRODID:-//Contratero//ES
CALSCALE:GREGORIAN
METHOD:PUBLISH
BEGIN:VEVENT
UID:1983/20245@contratero.es
DTSTAMP:20260423T062858Z
DTSTART:20250626T235959
DTEND:20250627T005959
SUMMARY:Cierre: Servicios de Implantación\, puesta en marcha\, sopor
DESCRIPTION:Servicios de Implantación\, puesta en marcha\, soporte y mantenimiento de un Sstema Informático para la gestión integral de nóminas y recursos humanos del Ayuntamiento de Guadix.”\\n\\nOrganismo: Junta de Gobierno Local del Ayuntamiento de Guadix\\n\\nVer en Contratero: https://contratero.es/contracts/1983/20245
URL:https://contratero.es/contracts/1983/20245
STATUS:CONFIRMED
BEGIN:VALARM
TRIGGER:-P1D
ACTION:DISPLAY
DESCRIPTION:Recordatorio: Servicios de Implantación\, pue
END:VALARM
END:VEVENT
END:VCALENDAR