BEGIN:VCALENDAR
VERSION:2.0
PRODID:-//Contratero//ES
CALSCALE:GREGORIAN
METHOD:PUBLISH
BEGIN:VEVENT
UID:19840089900@contratero.es
DTSTAMP:20260425T042057Z
DTSTART:20191111T235959
DTEND:20191112T005959
SUMMARY:Cierre: Actualización licencias VMware
DESCRIPTION:Actualización licencias VMware\\n\\nOrganismo: Dirección del Servicio de Gestión Económica de la Agencia Estatal de la Administración Tributaria\\n\\nVer en Contratero: https://contratero.es/contracts/19840089900
URL:https://contratero.es/contracts/19840089900
STATUS:CONFIRMED
BEGIN:VALARM
TRIGGER:-P1D
ACTION:DISPLAY
DESCRIPTION:Recordatorio: Actualización licencias VMware
END:VALARM
END:VEVENT
END:VCALENDAR