BEGIN:VCALENDAR
VERSION:2.0
PRODID:-//Contratero//ES
CALSCALE:GREGORIAN
METHOD:PUBLISH
BEGIN:VEVENT
UID:199/2022@contratero.es
DTSTAMP:20260422T094155Z
DTSTART:20220620T235959
DTEND:20220621T005959
SUMMARY:Cierre: El objeto de esta contratación lo constituyen serv
DESCRIPTION:El objeto de esta contratación lo constituyen servicios profesionales para la gestión\, operación y evolución de la infraestructura de tecnologías de la información de la CCA\, cuyo fin es garantizar\, c...\\n\\nOrganismo: Cámara de Cuentas de Andalucía\\n\\nVer en Contratero: https://contratero.es/contracts/199/2022
URL:https://contratero.es/contracts/199/2022
STATUS:CONFIRMED
BEGIN:VALARM
TRIGGER:-P1D
ACTION:DISPLAY
DESCRIPTION:Recordatorio: El objeto de esta contratación
END:VALARM
END:VEVENT
END:VCALENDAR