BEGIN:VCALENDAR
VERSION:2.0
PRODID:-//Contratero//ES
CALSCALE:GREGORIAN
METHOD:PUBLISH
BEGIN:VEVENT
UID:19A002@contratero.es
DTSTAMP:20260425T130351Z
DTSTART:20190530T235959
DTEND:20190531T005959
SUMMARY:Cierre: Servicio de teledetección satelital y simulador de
DESCRIPTION:Servicio de teledetección satelital y simulador de incendios avanzado para la defensa contra incendios forestales en España\\n\\nOrganismo: Dirección General de Protección Civil y Emergencias\\n\\nVer en Contratero: https://contratero.es/contracts/19A002
URL:https://contratero.es/contracts/19A002
STATUS:CONFIRMED
BEGIN:VALARM
TRIGGER:-P1D
ACTION:DISPLAY
DESCRIPTION:Recordatorio: Servicio de teledetección sate
END:VALARM
END:VEVENT
END:VCALENDAR