BEGIN:VCALENDAR
VERSION:2.0
PRODID:-//Contratero//ES
CALSCALE:GREGORIAN
METHOD:PUBLISH
BEGIN:VEVENT
UID:1DGT00001597@contratero.es
DTSTAMP:20260423T001213Z
DTSTART:20210113T235959
DTEND:20210114T005959
SUMMARY:Cierre: Prestación de servicios de asistencia técnica para
DESCRIPTION:Prestación de servicios de asistencia técnica para el servicio de mantenimiento\, administración y control de redes de comunicaciones de la Gerencia de Informática de la Dirección General de Tráfico.\\n\\nOrganismo: Dirección General de Tráfico\\n\\nVer en Contratero: https://contratero.es/contracts/1DGT00001597
URL:https://contratero.es/contracts/1DGT00001597
STATUS:CONFIRMED
BEGIN:VALARM
TRIGGER:-P1D
ACTION:DISPLAY
DESCRIPTION:Recordatorio: Prestación de servicios de asi
END:VALARM
END:VEVENT
END:VCALENDAR