BEGIN:VCALENDAR
VERSION:2.0
PRODID:-//Contratero//ES
CALSCALE:GREGORIAN
METHOD:PUBLISH
BEGIN:VEVENT
UID:1DGT2A000184@contratero.es
DTSTAMP:20260422T113555Z
DTSTART:20230609T235959
DTEND:20230610T005959
SUMMARY:Cierre: Servicio de Oficina Técnica de Proyectos de la Ger
DESCRIPTION:Servicio de Oficina Técnica de Proyectos de la Gerencia de Informática de la Dirección General de Tráfico.\\n\\nOrganismo: Dirección General de Tráfico\\n\\nVer en Contratero: https://contratero.es/contracts/1DGT2A000184
URL:https://contratero.es/contracts/1DGT2A000184
STATUS:CONFIRMED
BEGIN:VALARM
TRIGGER:-P1D
ACTION:DISPLAY
DESCRIPTION:Recordatorio: Servicio de Oficina Técnica de
END:VALARM
END:VEVENT
END:VCALENDAR