BEGIN:VCALENDAR
VERSION:2.0
PRODID:-//Contratero//ES
CALSCALE:GREGORIAN
METHOD:PUBLISH
BEGIN:VEVENT
UID:1DGT2AP00017@contratero.es
DTSTAMP:20260422T081023Z
DTSTART:20240105T235959
DTEND:20240106T005959
SUMMARY:Cierre: Servicios de Oficina de Aseguramiento de la Calida
DESCRIPTION:Servicios de Oficina de Aseguramiento de la Calidad y Oficina de Pruebas de la Gerencia de Informática de la Dirección General de Tráfico (2 Lotes).\\n\\nOrganismo: Dirección General de Tráfico\\n\\nVer en Contratero: https://contratero.es/contracts/1DGT2AP00017
URL:https://contratero.es/contracts/1DGT2AP00017
STATUS:CONFIRMED
BEGIN:VALARM
TRIGGER:-P1D
ACTION:DISPLAY
DESCRIPTION:Recordatorio: Servicios de Oficina de Asegur
END:VALARM
END:VEVENT
END:VCALENDAR