BEGIN:VCALENDAR
VERSION:2.0
PRODID:-//Contratero//ES
CALSCALE:GREGORIAN
METHOD:PUBLISH
BEGIN:VEVENT
UID:1E/2021@contratero.es
DTSTAMP:20260421T123958Z
DTSTART:20210330T235959
DTEND:20210331T005959
SUMMARY:Cierre: Entorno e-Commerce de las Merindades
DESCRIPTION:Entorno e-Commerce de las Merindades\\n\\nOrganismo: Junta Directiva de la Asociación Centro de Desarrollo Rural Merindades\\n\\nVer en Contratero: https://contratero.es/contracts/1E/2021
URL:https://contratero.es/contracts/1E/2021
STATUS:CONFIRMED
BEGIN:VALARM
TRIGGER:-P1D
ACTION:DISPLAY
DESCRIPTION:Recordatorio: Entorno e-Commerce de las Meri
END:VALARM
END:VEVENT
END:VCALENDAR