BEGIN:VCALENDAR
VERSION:2.0
PRODID:-//Contratero//ES
CALSCALE:GREGORIAN
METHOD:PUBLISH
BEGIN:VEVENT
UID:2.-2022@contratero.es
DTSTAMP:20260421T020225Z
DTSTART:20240115T235959
DTEND:20240116T005959
SUMMARY:Cierre: Servicio de Delegado de Protección de Datos para e
DESCRIPTION:Servicio de Delegado de Protección de Datos para el Ayuntamiento de Blanca\\n\\nOrganismo: Alcaldía del Ayuntamiento de Blanca\\n\\nVer en Contratero: https://contratero.es/contracts/2.-2022
URL:https://contratero.es/contracts/2.-2022
STATUS:CONFIRMED
BEGIN:VALARM
TRIGGER:-P1D
ACTION:DISPLAY
DESCRIPTION:Recordatorio: Servicio de Delegado de Protec
END:VALARM
END:VEVENT
END:VCALENDAR