BEGIN:VCALENDAR
VERSION:2.0
PRODID:-//Contratero//ES
CALSCALE:GREGORIAN
METHOD:PUBLISH
BEGIN:VEVENT
UID:2.17/41112.0022@contratero.es
DTSTAMP:20260425T125338Z
DTSTART:20171229T235959
DTEND:20171230T005959
SUMMARY:Cierre: Soporte y mantenimiento de productos vmware bajo e
DESCRIPTION:Soporte y mantenimiento de productos vmware bajo ela\\n\\nOrganismo: ADIF - Presidencia\\n\\nVer en Contratero: https://contratero.es/contracts/2.17/41112.0022
URL:https://contratero.es/contracts/2.17/41112.0022
STATUS:CONFIRMED
BEGIN:VALARM
TRIGGER:-P1D
ACTION:DISPLAY
DESCRIPTION:Recordatorio: Soporte y mantenimiento de pro
END:VALARM
END:VEVENT
END:VCALENDAR