BEGIN:VCALENDAR
VERSION:2.0
PRODID:-//Contratero//ES
CALSCALE:GREGORIAN
METHOD:PUBLISH
BEGIN:VEVENT
UID:2.20/41110.0202@contratero.es
DTSTAMP:20260425T230220Z
DTSTART:20201218T235959
DTEND:20201219T005959
SUMMARY:Cierre: Soporte y mantenimiento de Editran AES
DESCRIPTION:Soporte y mantenimiento de Editran AES\\n\\nOrganismo: ADIF - Presidencia\\n\\nVer en Contratero: https://contratero.es/contracts/2.20/41110.0202
URL:https://contratero.es/contracts/2.20/41110.0202
STATUS:CONFIRMED
BEGIN:VALARM
TRIGGER:-P1D
ACTION:DISPLAY
DESCRIPTION:Recordatorio: Soporte y mantenimiento de Edi
END:VALARM
END:VEVENT
END:VCALENDAR