BEGIN:VCALENDAR
VERSION:2.0
PRODID:-//Contratero//ES
CALSCALE:GREGORIAN
METHOD:PUBLISH
BEGIN:VEVENT
UID:2.21/09110.0092@contratero.es
DTSTAMP:20260422T062746Z
DTSTART:20210720T235959
DTEND:20210721T005959
SUMMARY:Cierre: Servicios de Centro de Operaciones de Seguridad y 
DESCRIPTION:Servicios de Centro de Operaciones de Seguridad y servicios de Gobierno\, Riesgo y Cumplimiento para los Sistemas de Información de Adif y Adif Alta Velocidad (2 lotes)\\n\\nOrganismo: ADIF -Consejo de Administración\\n\\nVer en Contratero: https://contratero.es/contracts/2.21/09110.0092
URL:https://contratero.es/contracts/2.21/09110.0092
STATUS:CONFIRMED
BEGIN:VALARM
TRIGGER:-P1D
ACTION:DISPLAY
DESCRIPTION:Recordatorio: Servicios de Centro de Operaci
END:VALARM
END:VEVENT
END:VCALENDAR