BEGIN:VCALENDAR
VERSION:2.0
PRODID:-//Contratero//ES
CALSCALE:GREGORIAN
METHOD:PUBLISH
BEGIN:VEVENT
UID:2.21/41110.0267@contratero.es
DTSTAMP:20260422T174129Z
DTSTART:20220314T235959
DTEND:20220315T005959
SUMMARY:Cierre: Subscripción de herramientas colaborativas en la p
DESCRIPTION:Subscripción de herramientas colaborativas en la plataforma Microsoft 365\\n\\nOrganismo: ADIF -Consejo de Administración\\n\\nVer en Contratero: https://contratero.es/contracts/2.21/41110.0267
URL:https://contratero.es/contracts/2.21/41110.0267
STATUS:CONFIRMED
BEGIN:VALARM
TRIGGER:-P1D
ACTION:DISPLAY
DESCRIPTION:Recordatorio: Subscripción de herramientas c
END:VALARM
END:VEVENT
END:VCALENDAR