BEGIN:VCALENDAR
VERSION:2.0
PRODID:-//Contratero//ES
CALSCALE:GREGORIAN
METHOD:PUBLISH
BEGIN:VEVENT
UID:2.4.42/19@contratero.es
DTSTAMP:20260425T113502Z
DTSTART:20190905T235959
DTEND:20190906T005959
SUMMARY:Cierre: Servicio de acceso a una base de datos de normativ
DESCRIPTION:Servicio de acceso a una base de datos de normativa consolidada\\n\\nOrganismo: Consejería de Presidencia\, Interior\, Justicia y Acción Exterior\\n\\nVer en Contratero: https://contratero.es/contracts/2.4.42/19
URL:https://contratero.es/contracts/2.4.42/19
STATUS:CONFIRMED
BEGIN:VALARM
TRIGGER:-P1D
ACTION:DISPLAY
DESCRIPTION:Recordatorio: Servicio de acceso a una base 
END:VALARM
END:VEVENT
END:VCALENDAR