BEGIN:VCALENDAR
VERSION:2.0
PRODID:-//Contratero//ES
CALSCALE:GREGORIAN
METHOD:PUBLISH
BEGIN:VEVENT
UID:2.4.7/18@contratero.es
DTSTAMP:20260425T172816Z
DTSTART:20180416T235959
DTEND:20180417T005959
SUMMARY:Cierre: Acuerdo Marco de servicios de administración elect
DESCRIPTION:Acuerdo Marco de servicios de administración electrónica para municipios de Cantabria\\n\\nOrganismo: Consejería de Presidencia y Justicia\\n\\nVer en Contratero: https://contratero.es/contracts/2.4.7/18
URL:https://contratero.es/contracts/2.4.7/18
STATUS:CONFIRMED
BEGIN:VALARM
TRIGGER:-P1D
ACTION:DISPLAY
DESCRIPTION:Recordatorio: Acuerdo Marco de servicios de 
END:VALARM
END:VEVENT
END:VCALENDAR