BEGIN:VCALENDAR
VERSION:2.0
PRODID:-//Contratero//ES
CALSCALE:GREGORIAN
METHOD:PUBLISH
BEGIN:VEVENT
UID:2/2025@contratero.es
DTSTAMP:20260420T061135Z
DTSTART:20251015T235959
DTEND:20251016T005959
SUMMARY:Cierre: Concesión de uso privativo de seis metros cuadrado
DESCRIPTION:Concesión de uso privativo de seis metros cuadrados de superficie de un bien de dominio público mediante adjudicación directa.\\n\\nOrganismo: ALCALDÍA DEL AYUNTAMIENTO DE VALFERMOSO DE TAJUÑA\\n\\nVer en Contratero: https://contratero.es/contracts/2/2025
URL:https://contratero.es/contracts/2/2025
STATUS:CONFIRMED
BEGIN:VALARM
TRIGGER:-P1D
ACTION:DISPLAY
DESCRIPTION:Recordatorio: Concesión de uso privativo de 
END:VALARM
END:VEVENT
END:VCALENDAR