BEGIN:VCALENDAR
VERSION:2.0
PRODID:-//Contratero//ES
CALSCALE:GREGORIAN
METHOD:PUBLISH
BEGIN:VEVENT
UID:2/2026@contratero.es
DTSTAMP:20260419T125924Z
DTSTART:20260130T235959
DTEND:20260131T005959
SUMMARY:Cierre: Procedimiento Abierto Simplificado Abreviado (art.
DESCRIPTION:Procedimiento Abierto Simplificado Abreviado (art. 159.6 de la Ley 9/2017 de 8 de noviembre\, de Contratos del Sector Público) para el suministro de treinta unidades de la licencia informática\, Syskit ...\\n\\nOrganismo: Dirección Gerencia de Unión de Mutuas\, Mutua Colaboradora con la Seguridad Social Nº 267\\n\\nVer en Contratero: https://contratero.es/contracts/2/2026
URL:https://contratero.es/contracts/2/2026
STATUS:CONFIRMED
BEGIN:VALARM
TRIGGER:-P1D
ACTION:DISPLAY
DESCRIPTION:Recordatorio: Procedimiento Abierto Simplifi
END:VALARM
END:VEVENT
END:VCALENDAR