BEGIN:VCALENDAR
VERSION:2.0
PRODID:-//Contratero//ES
CALSCALE:GREGORIAN
METHOD:PUBLISH
BEGIN:VEVENT
UID:20/016.0@contratero.es
DTSTAMP:20260419T214528Z
DTSTART:20200702T235959
DTEND:20200703T005959
SUMMARY:Cierre: Servicio de datos en movilidad para los miembros d
DESCRIPTION:Servicio de datos en movilidad para los miembros de la carrera judicial y del Consejo General del Poder Judicial.\\n\\nOrganismo: Consejo General del Poder Judicial\\n\\nVer en Contratero: https://contratero.es/contracts/20/016.0
URL:https://contratero.es/contracts/20/016.0
STATUS:CONFIRMED
BEGIN:VALARM
TRIGGER:-P1D
ACTION:DISPLAY
DESCRIPTION:Recordatorio: Servicio de datos en movilidad
END:VALARM
END:VEVENT
END:VCALENDAR