BEGIN:VCALENDAR
VERSION:2.0
PRODID:-//Contratero//ES
CALSCALE:GREGORIAN
METHOD:PUBLISH
BEGIN:VEVENT
UID:20/03266@contratero.es
DTSTAMP:20260423T170830Z
DTSTART:20200605T235959
DTEND:20200606T005959
SUMMARY:Cierre: Gestión y mantenimiento de la Web\, Redes Sociales 
DESCRIPTION:Gestión y mantenimiento de la Web\, Redes Sociales y Lista de Distribución del Centro de Iniciativas Culturales de la Universidad de Sevilla\n(CICUS)\\n\\nOrganismo: Rectorado de la Universidad de Sevilla\\n\\nVer en Contratero: https://contratero.es/contracts/20/03266
URL:https://contratero.es/contracts/20/03266
STATUS:CONFIRMED
BEGIN:VALARM
TRIGGER:-P1D
ACTION:DISPLAY
DESCRIPTION:Recordatorio: Gestión y mantenimiento de la 
END:VALARM
END:VEVENT
END:VCALENDAR