BEGIN:VCALENDAR
VERSION:2.0
PRODID:-//Contratero//ES
CALSCALE:GREGORIAN
METHOD:PUBLISH
BEGIN:VEVENT
UID:20/03350-INF-0043@contratero.es
DTSTAMP:20260425T224818Z
DTSTART:20201223T235959
DTEND:20201224T005959
SUMMARY:Cierre: Servicios de soporte tecnológico a los equipos de 
DESCRIPTION:Servicios de soporte tecnológico a los equipos de desarrollo y mantenimiento de aplicaciones\\n\\nOrganismo: Banco de España\\n\\nVer en Contratero: https://contratero.es/contracts/20/03350-INF-0043
URL:https://contratero.es/contracts/20/03350-INF-0043
STATUS:CONFIRMED
BEGIN:VALARM
TRIGGER:-P1D
ACTION:DISPLAY
DESCRIPTION:Recordatorio: Servicios de soporte tecnológi
END:VALARM
END:VEVENT
END:VCALENDAR