BEGIN:VCALENDAR
VERSION:2.0
PRODID:-//Contratero//ES
CALSCALE:GREGORIAN
METHOD:PUBLISH
BEGIN:VEVENT
UID:20/145@contratero.es
DTSTAMP:20260420T002119Z
DTSTART:20210528T235959
DTEND:20210529T005959
SUMMARY:Cierre: Implementar un sistema de gestión de contenido de 
DESCRIPTION:Implementar un sistema de gestión de contenido de aprendizaje LCMS (Learning and Content Management System) en FGV.\\n\\nOrganismo: Gerencia de Ferrocarrils de la Generalitat Valenciana\\n\\nVer en Contratero: https://contratero.es/contracts/20/145
URL:https://contratero.es/contracts/20/145
STATUS:CONFIRMED
BEGIN:VALARM
TRIGGER:-P1D
ACTION:DISPLAY
DESCRIPTION:Recordatorio: Implementar un sistema de gest
END:VALARM
END:VEVENT
END:VCALENDAR