BEGIN:VCALENDAR
VERSION:2.0
PRODID:-//Contratero//ES
CALSCALE:GREGORIAN
METHOD:PUBLISH
BEGIN:VEVENT
UID:20/182@contratero.es
DTSTAMP:20260425T001001Z
DTSTART:20200720T235959
DTEND:20200721T005959
SUMMARY:Cierre: Servicios de recogida de noticias aparecidas en lo
DESCRIPTION:Servicios de recogida de noticias aparecidas en los medios de comunicación de la actividad y los juegos que gestiona SELAE así como del sector del juego en general\\n\\nOrganismo: Comisión de Contratación de la Sociedad Estatal Loterías y Apuestas del Estado\, S.M.E.\, S.A.\\n\\nVer en Contratero: https://contratero.es/contracts/20/182
URL:https://contratero.es/contracts/20/182
STATUS:CONFIRMED
BEGIN:VALARM
TRIGGER:-P1D
ACTION:DISPLAY
DESCRIPTION:Recordatorio: Servicios de recogida de notic
END:VALARM
END:VEVENT
END:VCALENDAR