BEGIN:VCALENDAR
VERSION:2.0
PRODID:-//Contratero//ES
CALSCALE:GREGORIAN
METHOD:PUBLISH
BEGIN:VEVENT
UID:2013/2023@contratero.es
DTSTAMP:20260421T174458Z
DTSTART:20230412T235959
DTEND:20230413T005959
SUMMARY:Cierre: Enajenación de la finca rústica municipal nº 411 d
DESCRIPTION:Enajenación de la finca rústica municipal nº 411 del polígono 47\\n\\nOrganismo: Alcaldía del Ayuntamiento de Tarazona\\n\\nVer en Contratero: https://contratero.es/contracts/2013/2023
URL:https://contratero.es/contracts/2013/2023
STATUS:CONFIRMED
BEGIN:VALARM
TRIGGER:-P1D
ACTION:DISPLAY
DESCRIPTION:Recordatorio: Enajenación de la finca rústic
END:VALARM
END:VEVENT
END:VCALENDAR