BEGIN:VCALENDAR
VERSION:2.0
PRODID:-//Contratero//ES
CALSCALE:GREGORIAN
METHOD:PUBLISH
BEGIN:VEVENT
UID:20134/2025@contratero.es
DTSTAMP:20260419T192842Z
DTSTART:20260114T235959
DTEND:20260115T005959
SUMMARY:Cierre: Solución Integral de Administración Electrónica
DESCRIPTION:Solución Integral de Administración Electrónica\\n\\nOrganismo: Alcaldía del Ayuntamiento de la Villa de La Orotava\\n\\nVer en Contratero: https://contratero.es/contracts/20134/2025
URL:https://contratero.es/contracts/20134/2025
STATUS:CONFIRMED
BEGIN:VALARM
TRIGGER:-P1D
ACTION:DISPLAY
DESCRIPTION:Recordatorio: Solución Integral de Administr
END:VALARM
END:VEVENT
END:VCALENDAR