BEGIN:VCALENDAR
VERSION:2.0
PRODID:-//Contratero//ES
CALSCALE:GREGORIAN
METHOD:PUBLISH
BEGIN:VEVENT
UID:2016/C1/ASC/004@contratero.es
DTSTAMP:20260425T172939Z
DTSTART:20160411T235959
DTEND:20160412T005959
SUMMARY:Cierre: Mantenimiento del servicio de digitalización de do
DESCRIPTION:Mantenimiento del servicio de digitalización de documentos de MAZ M.A.T.E.P.S.S. nº 11\\n\\nOrganismo: Gerencia de MAZ Mútua de Accidentes de Trabajo y Enfermedades Profesionales de la Seguridad Social nº  11\\n\\nVer en Contratero: https://contratero.es/contracts/2016/C1/ASC/004
URL:https://contratero.es/contracts/2016/C1/ASC/004
STATUS:CONFIRMED
BEGIN:VALARM
TRIGGER:-P1D
ACTION:DISPLAY
DESCRIPTION:Recordatorio: Mantenimiento del servicio de 
END:VALARM
END:VEVENT
END:VCALENDAR