BEGIN:VCALENDAR
VERSION:2.0
PRODID:-//Contratero//ES
CALSCALE:GREGORIAN
METHOD:PUBLISH
BEGIN:VEVENT
UID:201700000007@contratero.es
DTSTAMP:20260425T111211Z
DTSTART:20171124T235959
DTEND:20171125T005959
SUMMARY:Cierre: Suministro de adquisición y actualización  de prod
DESCRIPTION:Suministro de adquisición y actualización  de productos de plataforma servidor y usuario final\, con destino a la Dirección General de Seguros y Fondos de Pensiones.\\n\\nOrganismo: Dirección General de Seguros y Fondos de Pensiones\\n\\nVer en Contratero: https://contratero.es/contracts/201700000007
URL:https://contratero.es/contracts/201700000007
STATUS:CONFIRMED
BEGIN:VALARM
TRIGGER:-P1D
ACTION:DISPLAY
DESCRIPTION:Recordatorio: Suministro de adquisición y ac
END:VALARM
END:VEVENT
END:VCALENDAR