BEGIN:VCALENDAR
VERSION:2.0
PRODID:-//Contratero//ES
CALSCALE:GREGORIAN
METHOD:PUBLISH
BEGIN:VEVENT
UID:2018-01000@contratero.es
DTSTAMP:20260425T155122Z
DTSTART:20181211T235959
DTEND:20181212T005959
SUMMARY:Cierre: Servicio mantenimiento software licencias sap
DESCRIPTION:Servicio mantenimiento software licencias sap\\n\\nOrganismo: Dirección General Económico-Financiera de la Entidad Pública Empresarial RENFE-Operadora\\n\\nVer en Contratero: https://contratero.es/contracts/2018-01000
URL:https://contratero.es/contracts/2018-01000
STATUS:CONFIRMED
BEGIN:VALARM
TRIGGER:-P1D
ACTION:DISPLAY
DESCRIPTION:Recordatorio: Servicio mantenimiento softwar
END:VALARM
END:VEVENT
END:VCALENDAR