BEGIN:VCALENDAR
VERSION:2.0
PRODID:-//Contratero//ES
CALSCALE:GREGORIAN
METHOD:PUBLISH
BEGIN:VEVENT
UID:2018/000504@contratero.es
DTSTAMP:20260423T093329Z
DTSTART:20180409T235959
DTEND:20180410T005959
SUMMARY:Cierre: Servicios de monitorización y gestión 24x7 de sist
DESCRIPTION:Servicios de monitorización y gestión 24x7 de sistemas informáticos y redes de de comunicaciones de la Junta de Comunidades de Castilla-La Mancha-1701TO18SER00001\\n\\nOrganismo: Consejería de Fomento de la Junta de Comunidades de Castilla-La Mancha\\n\\nVer en Contratero: https://contratero.es/contracts/2018/000504
URL:https://contratero.es/contracts/2018/000504
STATUS:CONFIRMED
BEGIN:VALARM
TRIGGER:-P1D
ACTION:DISPLAY
DESCRIPTION:Recordatorio: Servicios de monitorización y 
END:VALARM
END:VEVENT
END:VCALENDAR