BEGIN:VCALENDAR
VERSION:2.0
PRODID:-//Contratero//ES
CALSCALE:GREGORIAN
METHOD:PUBLISH
BEGIN:VEVENT
UID:2018/000858-PEA@contratero.es
DTSTAMP:20260420T062734Z
DTSTART:20180910T235959
DTEND:20180911T005959
SUMMARY:Cierre: acceso a una base de datos jurídica en línea para 
DESCRIPTION:acceso a una base de datos jurídica en línea para consulta de empleados de la diputación de sevilla. durante el período 1 de septiembre de 2018 a 31 de agosto de 2020.\\n\\nOrganismo: Presidencia de la Diputación Provincial de Sevilla\\n\\nVer en Contratero: https://contratero.es/contracts/2018/000858-PEA
URL:https://contratero.es/contracts/2018/000858-PEA
STATUS:CONFIRMED
BEGIN:VALARM
TRIGGER:-P1D
ACTION:DISPLAY
DESCRIPTION:Recordatorio: acceso a una base de datos jur
END:VALARM
END:VEVENT
END:VCALENDAR