BEGIN:VCALENDAR
VERSION:2.0
PRODID:-//Contratero//ES
CALSCALE:GREGORIAN
METHOD:PUBLISH
BEGIN:VEVENT
UID:2018/134@contratero.es
DTSTAMP:20260425T024917Z
DTSTART:20190208T235959
DTEND:20190209T005959
SUMMARY:Cierre: Suministro de una Licencia de uso consistente en u
DESCRIPTION:Suministro de una Licencia de uso consistente en un Sistema de Información y Gestión para la Recaudación Ejecutiva del Órgano de Gestión Tributaria del Ayuntamiento de Córdoba\\n\\nOrganismo: Junta de Gobierno del Ayuntamiento de Córdoba\\n\\nVer en Contratero: https://contratero.es/contracts/2018/134
URL:https://contratero.es/contracts/2018/134
STATUS:CONFIRMED
BEGIN:VALARM
TRIGGER:-P1D
ACTION:DISPLAY
DESCRIPTION:Recordatorio: Suministro de una Licencia de 
END:VALARM
END:VEVENT
END:VCALENDAR