BEGIN:VCALENDAR
VERSION:2.0
PRODID:-//Contratero//ES
CALSCALE:GREGORIAN
METHOD:PUBLISH
BEGIN:VEVENT
UID:2018/22706/022@contratero.es
DTSTAMP:20260426T004212Z
DTSTART:20180928T235959
DTEND:20180929T005959
SUMMARY:Cierre: Servicios en Azure para la AEMPS
DESCRIPTION:Servicios en Azure para la AEMPS\\n\\nOrganismo: Secretaría General de la Agencia Española de Medicamentos y Productos Sanitarios\\n\\nVer en Contratero: https://contratero.es/contracts/2018/22706/022
URL:https://contratero.es/contracts/2018/22706/022
STATUS:CONFIRMED
BEGIN:VALARM
TRIGGER:-P1D
ACTION:DISPLAY
DESCRIPTION:Recordatorio: Servicios en Azure para la AEM
END:VALARM
END:VEVENT
END:VCALENDAR